BEGIN:VCALENDAR
VERSION:2.0
PRODID:-//Lahaina Cannery Mall - ECPv6.15.20//NONSGML v1.0//EN
CALSCALE:GREGORIAN
METHOD:PUBLISH
X-ORIGINAL-URL:https://lahainacannerymall.com
X-WR-CALDESC:Events for Lahaina Cannery Mall
REFRESH-INTERVAL;VALUE=DURATION:PT1H
X-Robots-Tag:noindex
X-PUBLISHED-TTL:PT1H
BEGIN:VTIMEZONE
TZID:Pacific/Honolulu
BEGIN:STANDARD
TZOFFSETFROM:-1000
TZOFFSETTO:-1000
TZNAME:HST
DTSTART:20250101T000000
END:STANDARD
END:VTIMEZONE
BEGIN:VEVENT
DTSTART;TZID=Pacific/Honolulu:20260424T170000
DTEND;TZID=Pacific/Honolulu:20260424T183000
DTSTAMP:20260419T074226
CREATED:20251219T234803Z
LAST-MODIFIED:20260401T024606Z
UID:871-1777050000-1777055400@lahainacannerymall.com
SUMMARY:Mondokane
DESCRIPTION:Join us for our Pau Hana Series featuring artist Mondokane \nSinger/songwriter/composer/musician. Born and raised on Maui. Been entertaining the islands over 30 years started when he was a youngster\, Mondokane has a few albums out on the market. Multiple songs spinning on the radio waves throughout the islands of Hawaii. Mondokane has a variety of styles Which includes Hawaiian\, contemporary\, jazz rock\, reggae R&B country\, and also his original music that he wrote\, and composed. He has one of the most unique voices that you will ever hear.
URL:https://lahainacannerymall.com/event/mondokane/
LOCATION:Lahaina Cannery Mall\, 1221 Honoapiʻilani Highway\, Lahaina\, HI\, 96761
CATEGORIES:Pau Hana Concert Series
ATTACH;FMTTYPE=image/jpeg:https://lahainacannerymall.com/wp-content/uploads/2025/12/Featured-image.jpeg
END:VEVENT
BEGIN:VEVENT
DTSTART;TZID=Pacific/Honolulu:20260425T170000
DTEND;TZID=Pacific/Honolulu:20260425T183000
DTSTAMP:20260419T074226
CREATED:20260116T225729Z
LAST-MODIFIED:20260418T004728Z
UID:915-1777136400-1777141800@lahainacannerymall.com
SUMMARY:Peter DeAquino
DESCRIPTION:Join us for our Pau Hana Series featuring artist Peter DeAquino \nPeter DeAquino is a Hawaiʻi-based musician whose smooth vocals and island-inspired sound create an easygoing\, feel-good atmosphere. Blending a variety of musical influences\, his live performances are engaging\, interactive\, and best enjoyed singing along and moving to the rhythm.
URL:https://lahainacannerymall.com/event/peter-deaquino/
LOCATION:Lahaina Cannery Mall\, 1221 Honoapiʻilani Highway\, Lahaina\, HI\, 96761
CATEGORIES:Pau Hana Concert Series
ATTACH;FMTTYPE=image/jpeg:https://lahainacannerymall.com/wp-content/uploads/2026/01/Untitled-1280-x-720-px-1-copy-4.jpg
END:VEVENT
BEGIN:VEVENT
DTSTART;TZID=Pacific/Honolulu:20260508T170000
DTEND;TZID=Pacific/Honolulu:20260508T183000
DTSTAMP:20260419T074226
CREATED:20260417T232044Z
LAST-MODIFIED:20260417T232111Z
UID:1035-1778259600-1778265000@lahainacannerymall.com
SUMMARY:Joe Benedett
DESCRIPTION:Join us for our Pau Hana Series featuring artist Joe Benedett \nEnjoy an evening of live music as Joe Benedett takes the stage with a versatile sound\, performing well as alongside Estaire Godinez on percussion and Hawaii lap steel master Geri Valdriz. Together as a trio\, they bring a unique blend of talent and rhythm to every performance. \nFrom original tunes to timeless covers\, ranging from the Beatle to Sinatra\, along with classic Hawaiian standards\, their music creates the perfect island-inspired atmosphere to relax\, unwind\, and enjoy Pau Hana.
URL:https://lahainacannerymall.com/event/joebenedett/
LOCATION:Lahaina Cannery Mall\, 1221 Honoapiʻilani Highway\, Lahaina\, HI\, 96761
CATEGORIES:Pau Hana Concert Series
ATTACH;FMTTYPE=image/jpeg:https://lahainacannerymall.com/wp-content/uploads/2026/04/Untitled-1280-x-720-px.jpg
END:VEVENT
BEGIN:VEVENT
DTSTART;TZID=Pacific/Honolulu:20260509T170000
DTEND;TZID=Pacific/Honolulu:20260509T183000
DTSTAMP:20260419T074226
CREATED:20251229T190523Z
LAST-MODIFIED:20260418T004624Z
UID:904-1778346000-1778351400@lahainacannerymall.com
SUMMARY:Scott Baird
DESCRIPTION:Join us for our Pau Hana Series featuring artist Scott Baird \nScott Baird is the lead singer of Crazy Fingers\, a respected Hawai‘i musician with five Top 10 hits statewide and a Nā Hōkū Hanohano Award in 2024. He performs regularly around Lahaina and shared the stage with many notable artists.
URL:https://lahainacannerymall.com/event/scott-baird-2/
LOCATION:Lahaina Cannery Mall\, 1221 Honoapiʻilani Highway\, Lahaina\, HI\, 96761
CATEGORIES:Pau Hana Concert Series
ATTACH;FMTTYPE=image/jpeg:https://lahainacannerymall.com/wp-content/uploads/2025/12/Untitled-1280-x-720-px-1-copy-5.jpg
END:VEVENT
END:VCALENDAR